Workbook

Sheet Daten
B1: 83.13 | C1: je 1 Mio Einwohner | D1: Mittelwert Sonntag letzten 7 Tage - DE | E1: 8.93 | F1: je 1 Mio Einwohner | G1: Mittelwert Sonntag letzten 7 Tage - DE
A3: 44602 | B3: 231228 | C3: =SUM(B3/$B$1) -> 2781.5229 | E3: 8191 | F3: =SUM(E3/$B$1) -> 98.532419
A4: 44601 | B4: 270728 | C4: =SUM(B4/$B$1) -> 3256.6823 | E4: 8191 | F4: =SUM(E4/$B$1) -> 98.532419
A5: 44600 | B5: 267120 | C5: =SUM(B5/$B$1) -> 3213.2804 | E5: 8191 | F5: =SUM(E5/$B$1) -> 98.532419
A6: 44599 | B6: 160894 | C6: =SUM(B6/$B$1) -> 1935.4505 | E6: 8191 | F6: =SUM(E6/$B$1) -> 98.532419
A7: 44598 | B7: 50868 | C7: =SUM(B7/$B$1) -> 611.90906 | D7: =AVERAGE(C7:C13) -> 2943.7593 | E7: 8191 | F7: =SUM(E7/$B$1) -> 98.532419 | G7: =AVERAGE(F7:F13) -> 237.94401
A8: 44597 | B8: 143558 | C8: =SUM(B8/$B$1) -> 1726.9097 | E8: 8191 | F8: =SUM(E8/$B$1) -> 98.532419
A9: 44596 | B9: 305327 | C9: =SUM(B9/$B$1) -> 3672.8858 | E9: 24416 | F9: =SUM(E9/$B$1) -> 293.70865
A10: 44595 | B10: 337419 | C10: =SUM(B10/$B$1) -> 4058.9318 | E10: 24416 | F10: =SUM(E10/$B$1) -> 293.70865
A11: 44594 | B11: 356843 | C11: =SUM(B11/$B$1) -> 4292.5899 | E11: 24416 | F11: =SUM(E11/$B$1) -> 293.70865
A12: 44593 | B12: 289465 | C12: =SUM(B12/$B$1) -> 3482.0763 | E12: 24416 | F12: =SUM(E12/$B$1) -> 293.70865
A13: 44592 | B13: 229523 | C13: =SUM(B13/$B$1) -> 2761.0129 | E13: 24416 | F13: =SUM(E13/$B$1) -> 293.70865
A14: 44591 | B14: 75110 | C14: =SUM(B14/$B$1) -> 903.5246 | D14: =AVERAGE(C14:C20) -> 4416.0867 | E14: 24416 | F14: =SUM(E14/$B$1) -> 293.70865 | G14: =AVERAGE(F14:F20) -> 289.71834
A15: 44590 | B15: 209017 | C15: =SUM(B15/$B$1) -> 2514.339 | E15: 24416 | F15: =SUM(E15/$B$1) -> 293.70865
A16: 44589 | B16: 432324 | C16: =SUM(B16/$B$1) -> 5200.5774 | E16: 23954 | F16: =SUM(E16/$B$1) -> 288.15109
A17: 44588 | B17: 504894 | C17: =SUM(B17/$B$1) -> 6073.5475 | E17: 23951 | F17: =SUM(E17/$B$1) -> 288.115
A18: 44587 | B18: 499287 | C18: =SUM(B18/$B$1) -> 6006.0989 | E18: 23951 | F18: =SUM(E18/$B$1) -> 288.115
A19: 44586 | B19: 495712 | C19: =SUM(B19/$B$1) -> 5963.0939 | E19: 23951 | F19: =SUM(E19/$B$1) -> 288.115
A20: 44585 | B20: 353421 | C20: =SUM(B20/$B$1) -> 4251.4255 | E20: 23951 | F20: =SUM(E20/$B$1) -> 288.115
A21: 44584 | B21: 107140 | C21: =SUM(B21/$B$1) -> 1288.8247 | D21: =AVERAGE(C21:C27) -> 5987.3348 | E21: 23951 | F21: =SUM(E21/$B$1) -> 288.115 | G21: =AVERAGE(F21:F27) -> 337.89074
A22: 44583 | B22: 293334 | C22: =SUM(B22/$B$1) -> 3528.6178 | E22: 23951 | F22: =SUM(E22/$B$1) -> 288.115
A23: 44582 | B23: 590821 | C23: =SUM(B23/$B$1) -> 7107.1936 | E23: 29748 | F23: =SUM(E23/$B$1) -> 357.84915
A24: 44581 | B24: 695956 | C24: =SUM(B24/$B$1) -> 8371.8994 | E24: 29743 | F24: =SUM(E24/$B$1) -> 357.78901
A25: 44580 | B25: 673984 | C25: =SUM(B25/$B$1) -> 8107.5905 | E25: 29743 | F25: =SUM(E25/$B$1) -> 357.78901
A26: 44579 | B26: 647043 | C26: =SUM(B26/$B$1) -> 7783.5078 | E26: 29743 | F26: =SUM(E26/$B$1) -> 357.78901
A27: 44578 | B27: 475812 | C27: =SUM(B27/$B$1) -> 5723.7099 | E27: 29743 | F27: =SUM(E27/$B$1) -> 357.78901
A28: 44577 | B28: 153467 | C28: =SUM(B28/$B$1) -> 1846.1085 | D28: =AVERAGE(C28:C34) -> 7635.7426 | E28: 29743 | F28: =SUM(E28/$B$1) -> 357.78901 | G28: =AVERAGE(F28:F34) -> 447.13272
A29: 44576 | B29: 461821 | C29: =SUM(B29/$B$1) -> 5555.4072 | E29: 29743 | F29: =SUM(E29/$B$1) -> 357.78901
A30: 44575 | B30: 773161 | C30: =SUM(B30/$B$1) -> 9300.6255 | E30: 40141 | F30: =SUM(E30/$B$1) -> 482.8702
A31: 44574 | B31: 832038 | C31: =SUM(B31/$B$1) -> 10008.878 | E31: 40141 | F31: =SUM(E31/$B$1) -> 482.8702
A32: 44573 | B32: 875017 | C32: =SUM(B32/$B$1) -> 10525.887 | E32: 40141 | F32: =SUM(E32/$B$1) -> 482.8702
A33: 44572 | B33: 791845 | C33: =SUM(B33/$B$1) -> 9525.3819 | E33: 40141 | F33: =SUM(E33/$B$1) -> 482.8702
A34: 44571 | B34: 555966 | C34: =SUM(B34/$B$1) -> 6687.9105 | E34: 40141 | F34: =SUM(E34/$B$1) -> 482.8702
A35: 44570 | B35: 184259 | C35: =SUM(B35/$B$1) -> 2216.5163 | D35: =AVERAGE(C35:C41) -> 7098.254 | E35: 40141 | F35: =SUM(E35/$B$1) -> 482.8702 | G35: =AVERAGE(F35:F41) -> 426.44567
A36: 44569 | B36: 515324 | C36: =SUM(B36/$B$1) -> 6199.0136 | E36: 40141 | F36: =SUM(E36/$B$1) -> 482.8702
A37: 44568 | B37: 761594 | C37: =SUM(B37/$B$1) -> 9161.482 | E37: 33575 | F37: =SUM(E37/$B$1) -> 403.88548
A38: 44567 | B38: 679404 | C38: =SUM(B38/$B$1) -> 8172.7896 | E38: 33574 | F38: =SUM(E38/$B$1) -> 403.87345
A39: 44566 | B39: 813814 | C39: =SUM(B39/$B$1) -> 9789.6548 | E39: 33574 | F39: =SUM(E39/$B$1) -> 403.87345
A40: 44565 | B40: 697672 | C40: =SUM(B40/$B$1) -> 8392.5418 | E40: 33574 | F40: =SUM(E40/$B$1) -> 403.87345
A41: 44564 | B41: 478478 | C41: =SUM(B41/$B$1) -> 5755.7801 | E41: 33574 | F41: =SUM(E41/$B$1) -> 403.87345
A42: 44563 | B42: 153497 | C42: =SUM(B42/$B$1) -> 1846.4694 | D42: =AVERAGE(C42:C48) -> 4964.0529 | E42: 33574 | F42: =SUM(E42/$B$1) -> 403.87345 | G42: =AVERAGE(F42:F48) -> 344.18037
A43: 44562 | B43: 28413 | C43: =SUM(B43/$B$1) -> 341.78997 | E43: 33574 | F43: =SUM(E43/$B$1) -> 403.87345
A44: 44561 | B44: 124563 | C44: =SUM(B44/$B$1) -> 1498.4121 | E44: 26630 | F44: =SUM(E44/$B$1) -> 320.34163
A45: 44560 | B45: 557876 | C45: =SUM(B45/$B$1) -> 6710.8866 | E45: 26626 | F45: =SUM(E45/$B$1) -> 320.29352
A46: 44559 | B46: 714052 | C46: =SUM(B46/$B$1) -> 8589.5826 | E46: 26626 | F46: =SUM(E46/$B$1) -> 320.29352
A47: 44558 | B47: 715430 | C47: =SUM(B47/$B$1) -> 8606.159 | E47: 26626 | F47: =SUM(E47/$B$1) -> 320.29352
A48: 44557 | B48: 594801 | C48: =SUM(B48/$B$1) -> 7155.0704 | E48: 26626 | F48: =SUM(E48/$B$1) -> 320.29352
A49: 44556 | B49: 70242 | C49: =SUM(B49/$B$1) -> 844.96572 | D49: =AVERAGE(C49:C55) -> 7553.3656 | E49: 26626 | F49: =SUM(E49/$B$1) -> 320.29352 | G49: =AVERAGE(F49:F55) -> 425.16369
A50: 44555 | B50: 35972 | C50: =SUM(B50/$B$1) -> 432.71984 | E50: 26626 | F50: =SUM(E50/$B$1) -> 320.29352
A51: 44554 | B51: 78685 | C51: =SUM(B51/$B$1) -> 946.52953 | E51: 38831 | F51: =SUM(E51/$B$1) -> 467.11175
A52: 44553 | B52: 809488 | C52: =SUM(B52/$B$1) -> 9737.6158 | E52: 38831 | F52: =SUM(E52/$B$1) -> 467.11175
A53: 44552 | B53: 1196869 | C53: =SUM(B53/$B$1) -> 14397.558 | E53: 38831 | F53: =SUM(E53/$B$1) -> 467.11175
A54: 44551 | B54: 1216316 | C54: =SUM(B54/$B$1) -> 14631.493 | E54: 38831 | F54: =SUM(E54/$B$1) -> 467.11175
A55: 44550 | B55: 987807 | C55: =SUM(B55/$B$1) -> 11882.678 | E55: 38831 | F55: =SUM(E55/$B$1) -> 467.11175
A56: 44549 | B56: 382403 | C56: =SUM(B56/$B$1) -> 4600.0601 | D56: =AVERAGE(C56:C62) -> 13173.479 | E56: 38831 | F56: =SUM(E56/$B$1) -> 467.11175 | G56: =AVERAGE(F56:F62) -> 882.62102
A57: 44548 | B57: 966099 | C57: =SUM(B57/$B$1) -> 11621.545 | E57: 38831 | F57: =SUM(E57/$B$1) -> 467.11175
A58: 44547 | B58: 1301955 | C58: =SUM(B58/$B$1) -> 15661.674 | E58: 87192 | F58: =SUM(E58/$B$1) -> 1048.8632
A59: 44546 | B59: 1406341 | C59: =SUM(B59/$B$1) -> 16917.37 | E59: 87188 | F59: =SUM(E59/$B$1) -> 1048.8151
A60: 44545 | B60: 1646814 | C60: =SUM(B60/$B$1) -> 19810.105 | E60: 87188 | F60: =SUM(E60/$B$1) -> 1048.8151
A61: 44544 | B61: 1147944 | C61: =SUM(B61/$B$1) -> 13809.022 | E61: 87188 | F61: =SUM(E61/$B$1) -> 1048.8151
A62: 44543 | B62: 814223 | C62: =SUM(B62/$B$1) -> 9794.5748 | E62: 87188 | F62: =SUM(E62/$B$1) -> 1048.8151
A63: 44542 | B63: 321062 | C63: =SUM(B63/$B$1) -> 3862.1677 | D63: =AVERAGE(C63:C69) -> 11950.666 | E63: 87188 | F63: =SUM(E63/$B$1) -> 1048.8151 | G63: =AVERAGE(F63:F69) -> 1057.3663
A64: 44541 | B64: 995814 | C64: =SUM(B64/$B$1) -> 11978.997 | E64: 87188 | F64: =SUM(E64/$B$1) -> 1048.8151
A65: 44540 | B65: 1232987 | C65: =SUM(B65/$B$1) -> 14832.034 | E65: 88184 | F65: =SUM(E65/$B$1) -> 1060.7963
A66: 44539 | B66: 1257178 | C66: =SUM(B66/$B$1) -> 15123.036 | E66: 88183 | F66: =SUM(E66/$B$1) -> 1060.7843
A67: 44538 | B67: 1294426 | C67: =SUM(B67/$B$1) -> 15571.105 | E67: 88183 | F67: =SUM(E67/$B$1) -> 1060.7843
A68: 44537 | B68: 1096622 | C68: =SUM(B68/$B$1) -> 13191.652 | E68: 88183 | F68: =SUM(E68/$B$1) -> 1060.7843
A69: 44536 | B69: 756123 | C69: =SUM(B69/$B$1) -> 9095.6694 | E69: 88183 | F69: =SUM(E69/$B$1) -> 1060.7843
A70: 44535 | B70: 281001 | C70: =SUM(B70/$B$1) -> 3380.2598 | D70: =AVERAGE(C70:C76) -> 10286.828 | E70: 88183 | F70: =SUM(E70/$B$1) -> 1060.7843 | G70: =AVERAGE(F70:F76) -> 1168.0346
A71: 44534 | B71: 832902 | C71: =SUM(B71/$B$1) -> 10019.271 | E71: 88183 | F71: =SUM(E71/$B$1) -> 1060.7843
A72: 44533 | B72: 1075585 | C72: =SUM(B72/$B$1) -> 12938.59 | E72: 100669 | F72: =SUM(E72/$B$1) -> 1210.9828
A73: 44532 | B73: 1108186 | C73: =SUM(B73/$B$1) -> 13330.759 | E73: 100664 | F73: =SUM(E73/$B$1) -> 1210.9227
A74: 44531 | B74: 1129306 | C74: =SUM(B74/$B$1) -> 13584.819 | E74: 100664 | F74: =SUM(E74/$B$1) -> 1210.9227
A75: 44530 | B75: 924891 | C75: =SUM(B75/$B$1) -> 11125.839 | E75: 100664 | F75: =SUM(E75/$B$1) -> 1210.9227
A76: 44529 | B76: 634137 | C76: =SUM(B76/$B$1) -> 7628.2569 | E76: 100664 | F76: =SUM(E76/$B$1) -> 1210.9227
A77: 44528 | B77: 206054 | C77: =SUM(B77/$B$1) -> 2478.696 | D77: =AVERAGE(C77:C83) -> 7819.0047 | E77: 100664 | F77: =SUM(E77/$B$1) -> 1210.9227 | G77: =AVERAGE(F77:F83) -> 1257.4762
A78: 44527 | B78: 575610 | C78: =SUM(B78/$B$1) -> 6924.2151 | E78: 100664 | F78: =SUM(E78/$B$1) -> 1210.9227
A79: 44526 | B79: 843985 | C79: =SUM(B79/$B$1) -> 10152.592 | E79: 106082 | F79: =SUM(E79/$B$1) -> 1276.0977
A80: 44525 | B80: 887497 | C80: =SUM(B80/$B$1) -> 10676.013 | E80: 106082 | F80: =SUM(E80/$B$1) -> 1276.0977
A81: 44524 | B81: 899801 | C81: =SUM(B81/$B$1) -> 10824.023 | E81: 106082 | F81: =SUM(E81/$B$1) -> 1276.0977
A82: 44523 | B82: 717646 | C82: =SUM(B82/$B$1) -> 8632.8161 | E82: 106082 | F82: =SUM(E82/$B$1) -> 1276.0977
A83: 44522 | B83: 419364 | C83: =SUM(B83/$B$1) -> 5044.677 | E83: 106082 | F83: =SUM(E83/$B$1) -> 1276.0977
A84: 44521 | B84: 94877 | C84: =SUM(B84/$B$1) -> 1141.3088 | D84: =AVERAGE(C84:C90) -> 4675.4103 | E84: 106082 | F84: =SUM(E84/$B$1) -> 1276.0977 | G84: =AVERAGE(F84:F90) -> 1170.5332
A85: 44520 | B85: 220612 | C85: =SUM(B85/$B$1) -> 2653.8193 | E85: 106082 | F85: =SUM(E85/$B$1) -> 1276.0977
A86: 44519 | B86: 544865 | C86: =SUM(B86/$B$1) -> 6554.3727 | E86: 93801 | F86: =SUM(E86/$B$1) -> 1128.3652
A87: 44518 | B87: 584648 | C87: =SUM(B87/$B$1) -> 7032.9364 | E87: 93795 | F87: =SUM(E87/$B$1) -> 1128.293
A88: 44517 | B88: 554344 | C88: =SUM(B88/$B$1) -> 6668.3989 | E88: 93795 | F88: =SUM(E88/$B$1) -> 1128.293
A89: 44516 | B89: 474686 | C89: =SUM(B89/$B$1) -> 5710.1648 | E89: 93795 | F89: =SUM(E89/$B$1) -> 1128.293
A90: 44515 | B90: 246636 | C90: =SUM(B90/$B$1) -> 2966.8712 | E90: 93795 | F90: =SUM(E90/$B$1) -> 1128.293
A91: 44514 | B91: 49060 | C91: =SUM(B91/$B$1) -> 590.15999 | D91: =AVERAGE(C91:C97) -> 3115.2618 | E91: 93795 | F91: =SUM(E91/$B$1) -> 1128.293 | G91: =AVERAGE(F91:F97) -> 895.84128
A92: 44513 | B92: 104965 | C92: =SUM(B92/$B$1) -> 1262.6609 | E92: 93795 | F92: =SUM(E92/$B$1) -> 1128.293
A93: 44512 | B93: 332094 | C93: =SUM(B93/$B$1) -> 3994.8755 | E93: 66745 | F93: =SUM(E93/$B$1) -> 802.89907
A94: 44511 | B94: 412978 | C94: =SUM(B94/$B$1) -> 4967.8576 | E94: 66741 | F94: =SUM(E94/$B$1) -> 802.85096
A95: 44510 | B95: 399538 | C95: =SUM(B95/$B$1) -> 4806.1831 | E95: 66741 | F95: =SUM(E95/$B$1) -> 802.85096
A96: 44509 | B96: 339833 | C96: =SUM(B96/$B$1) -> 4087.9706 | E96: 66741 | F96: =SUM(E96/$B$1) -> 802.85096
A97: 44508 | B97: 174334 | C97: =SUM(B97/$B$1) -> 2097.125 | E97: 66741 | F97: =SUM(E97/$B$1) -> 802.85096
A98: 44507 | B98: 32518 | C98: =SUM(B98/$B$1) -> 391.17046 | D98: =AVERAGE(C98:C104) -> 2121.1631 | E98: 66741 | F98: =SUM(E98/$B$1) -> 802.85096 | G98: =AVERAGE(F98:F104) -> 528.44426
A99: 44506 | B99: 72021 | C99: =SUM(B99/$B$1) -> 866.36593 | E99: 66741 | F99: =SUM(E99/$B$1) -> 802.85096
A100: 44505 | B100: 257766 | C100: =SUM(B100/$B$1) -> 3100.7578 | E100: 34809 | F100: =SUM(E100/$B$1) -> 418.7297
A101: 44504 | B101: 300881 | C101: =SUM(B101/$B$1) -> 3619.4033 | E101: 34804 | F101: =SUM(E101/$B$1) -> 418.66955
...

Sheet Auswertung
B1: Mittelwert Sonntag letzten 7 Tage - DE | C1: Mittelwert Sonntag letzten 7 Tage - AT | D1: Faktor 10
A3: =Daten!A7 -> 44598 | B3: =Daten!D7 -> 2943.7593 | C3: =Daten!G7 -> 237.94401 | D3: =SUM(C3*10) -> 2379.4401
A4: =Daten!A14 -> 44591 | B4: =Daten!D14 -> 4416.0867 | C4: =Daten!G14 -> 289.71834 | D4: =SUM(C4*10) -> 2897.1834
A5: =Daten!A21 -> 44584 | B5: =Daten!D21 -> 5987.3348 | C5: =Daten!G21 -> 337.89074 | D5: =SUM(C5*10) -> 3378.9074
A6: =Daten!A28 -> 44577 | B6: =Daten!D28 -> 7635.7426 | C6: =Daten!G28 -> 447.13272 | D6: =SUM(C6*10) -> 4471.3272
A7: =Daten!A35 -> 44570 | B7: =Daten!D35 -> 7098.254 | C7: =Daten!G35 -> 426.44567 | D7: =SUM(C7*10) -> 4264.4567
A8: =Daten!A42 -> 44563 | B8: =Daten!D42 -> 4964.0529 | C8: =Daten!G42 -> 344.18037 | D8: =SUM(C8*10) -> 3441.8037
A9: =Daten!A49 -> 44556 | B9: =Daten!D49 -> 7553.3656 | C9: =Daten!G49 -> 425.16369 | D9: =SUM(C9*10) -> 4251.6369
A10: =Daten!A56 -> 44549 | B10: =Daten!D56 -> 13173.479 | C10: =Daten!G56 -> 882.62102 | D10: =SUM(C10*10) -> 8826.2102
A11: =Daten!A63 -> 44542 | B11: =Daten!D63 -> 11950.666 | C11: =Daten!G63 -> 1057.3663 | D11: =SUM(C11*10) -> 10573.663
A12: =Daten!A70 -> 44535 | B12: =Daten!D70 -> 10286.828 | C12: =Daten!G70 -> 1168.0346 | D12: =SUM(C12*10) -> 11680.346
A13: =Daten!A77 -> 44528 | B13: =Daten!D77 -> 7819.0047 | C13: =Daten!G77 -> 1257.4762 | D13: =SUM(C13*10) -> 12574.762
A14: =Daten!A84 -> 44521 | B14: =Daten!D84 -> 4675.4103 | C14: =Daten!G84 -> 1170.5332 | D14: =SUM(C14*10) -> 11705.332
