Workbook

Sheet Daten
B1: 83.13 | C1: je 1 Mio Einwohner | D1: Mittelwert Sonntag letzten 7 Tage - DE | E1: 8.93 | F1: je 1 Mio Einwohner | G1: Mittelwert Sonntag letzten 7 Tage - DE
A3: 44602 | B3: 231228 | C3: =SUM(B3/$B$1) -> 2781.5229 | E3: 8191 | F3: =SUM(E3/$B$1) -> 98.532419
A4: 44601 | B4: 270728 | C4: =SUM(B4/$B$1) -> 3256.6823 | E4: 8191 | F4: =SUM(E4/$B$1) -> 98.532419
A5: 44600 | B5: 267120 | C5: =SUM(B5/$B$1) -> 3213.2804 | E5: 8191 | F5: =SUM(E5/$B$1) -> 98.532419
A6: 44599 | B6: 160894 | C6: =SUM(B6/$B$1) -> 1935.4505 | E6: 8191 | F6: =SUM(E6/$B$1) -> 98.532419
A7: 44598 | B7: 50868 | C7: =SUM(B7/$B$1) -> 611.90906 | D7: =AVERAGE(C7:C13) -> 2943.7593 | E7: 8191 | F7: =SUM(E7/$B$1) -> 98.532419 | G7: =AVERAGE(F7:F13) -> 237.94401
A8: 44597 | B8: 143558 | C8: =SUM(B8/$B$1) -> 1726.9097 | E8: 8191 | F8: =SUM(E8/$B$1) -> 98.532419
A9: 44596 | B9: 305327 | C9: =SUM(B9/$B$1) -> 3672.8858 | E9: 24416 | F9: =SUM(E9/$B$1) -> 293.70865
A10: 44595 | B10: 337419 | C10: =SUM(B10/$B$1) -> 4058.9318 | E10: 24416 | F10: =SUM(E10/$B$1) -> 293.70865
A11: 44594 | B11: 356843 | C11: =SUM(B11/$B$1) -> 4292.5899 | E11: 24416 | F11: =SUM(E11/$B$1) -> 293.70865
A12: 44593 | B12: 289465 | C12: =SUM(B12/$B$1) -> 3482.0763 | E12: 24416 | F12: =SUM(E12/$B$1) -> 293.70865
A13: 44592 | B13: 229523 | C13: =SUM(B13/$B$1) -> 2761.0129 | E13: 24416 | F13: =SUM(E13/$B$1) -> 293.70865
A14: 44591 | B14: 75110 | C14: =SUM(B14/$B$1) -> 903.5246 | D14: =AVERAGE(C14:C20) -> 4416.0867 | E14: 24416 | F14: =SUM(E14/$B$1) -> 293.70865 | G14: =AVERAGE(F14:F20) -> 289.71834
A15: 44590 | B15: 209017 | C15: =SUM(B15/$B$1) -> 2514.339 | E15: 24416 | F15: =SUM(E15/$B$1) -> 293.70865
A16: 44589 | B16: 432324 | C16: =SUM(B16/$B$1) -> 5200.5774 | E16: 23954 | F16: =SUM(E16/$B$1) -> 288.15109
A17: 44588 | B17: 504894 | C17: =SUM(B17/$B$1) -> 6073.5475 | E17: 23951 | F17: =SUM(E17/$B$1) -> 288.115
A18: 44587 | B18: 499287 | C18: =SUM(B18/$B$1) -> 6006.0989 | E18: 23951 | F18: =SUM(E18/$B$1) -> 288.115
A19: 44586 | B19: 495712 | C19: =SUM(B19/$B$1) -> 5963.0939 | E19: 23951 | F19: =SUM(E19/$B$1) -> 288.115
A20: 44585 | B20: 353421 | C20: =SUM(B20/$B$1) -> 4251.4255 | E20: 23951 | F20: =SUM(E20/$B$1) -> 288.115
A21: 44584 | B21: 107140 | C21: =SUM(B21/$B$1) -> 1288.8247 | D21: =AVERAGE(C21:C27) -> 5987.3348 | E21: 23951 | F21: =SUM(E21/$B$1) -> 288.115 | G21: =AVERAGE(F21:F27) -> 337.89074
A22: 44583 | B22: 293334 | C22: =SUM(B22/$B$1) -> 3528.6178 | E22: 23951 | F22: =SUM(E22/$B$1) -> 288.115
A23: 44582 | B23: 590821 | C23: =SUM(B23/$B$1) -> 7107.1936 | E23: 29748 | F23: =SUM(E23/$B$1) -> 357.84915
A24: 44581 | B24: 695956 | C24: =SUM(B24/$B$1) -> 8371.8994 | E24: 29743 | F24: =SUM(E24/$B$1) -> 357.78901
A25: 44580 | B25: 673984 | C25: =SUM(B25/$B$1) -> 8107.5905 | E25: 29743 | F25: =SUM(E25/$B$1) -> 357.78901
A26: 44579 | B26: 647043 | C26: =SUM(B26/$B$1) -> 7783.5078 | E26: 29743 | F26: =SUM(E26/$B$1) -> 357.78901
A27: 44578 | B27: 475812 | C27: =SUM(B27/$B$1) -> 5723.7099 | E27: 29743 | F27: =SUM(E27/$B$1) -> 357.78901
A28: 44577 | B28: 153467 | C28: =SUM(B28/$B$1) -> 1846.1085 | D28: =AVERAGE(C28:C34) -> 7635.7426 | E28: 29743 | F28: =SUM(E28/$B$1) -> 357.78901 | G28: =AVERAGE(F28:F34) -> 447.13272
A29: 44576 | B29: 461821 | C29: =SUM(B29/$B$1) -> 5555.4072 | E29: 29743 | F29: =SUM(E29/$B$1) -> 357.78901
A30: 44575 | B30: 773161 | C30: =SUM(B30/$B$1) -> 9300.6255 | E30: 40141 | F30: =SUM(E30/$B$1) -> 482.8702
A31: 44574 | B31: 832038 | C31: =SUM(B31/$B$1) -> 10008.878 | E31: 40141 | F31: =SUM(E31/$B$1) -> 482.8702
A32: 44573 | B32: 875017 | C32: =SUM(B32/$B$1) -> 10525.887 | E32: 40141 | F32: =SUM(E32/$B$1) -> 482.8702
A33: 44572 | B33: 791845 | C33: =SUM(B33/$B$1) -> 9525.3819 | E33: 40141 | F33: =SUM(E33/$B$1) -> 482.8702
A34: 44571 | B34: 555966 | C34: =SUM(B34/$B$1) -> 6687.9105 | E34: 40141 | F34: =SUM(E34/$B$1) -> 482.8702
A35: 44570 | B35: 184259 | C35: =SUM(B35/$B$1) -> 2216.5163 | D35: =AVERAGE(C35:C41) -> 7098.254 | E35: 40141 | F35: =SUM(E35/$B$1) -> 482.8702 | G35: =AVERAGE(F35:F41) -> 426.44567
A36: 44569 | B36: 515324 | C36: =SUM(B36/$B$1) -> 6199.0136 | E36: 40141 | F36: =SUM(E36/$B$1) -> 482.8702
A37: 44568 | B37: 761594 | C37: =SUM(B37/$B$1) -> 9161.482 | E37: 33575 | F37: =SUM(E37/$B$1) -> 403.88548
A38: 44567 | B38: 679404 | C38: =SUM(B38/$B$1) -> 8172.7896 | E38: 33574 | F38: =SUM(E38/$B$1) -> 403.87345
A39: 44566 | B39: 813814 | C39: =SUM(B39/$B$1) -> 9789.6548 | E39: 33574 | F39: =SUM(E39/$B$1) -> 403.87345
A40: 44565 | B40: 697672 | C40: =SUM(B40/$B$1) -> 8392.5418 | E40: 33574 | F40: =SUM(E40/$B$1) -> 403.87345
A41: 44564 | B41: 478478 | C41: =SUM(B41/$B$1) -> 5755.7801 | E41: 33574 | F41: =SUM(E41/$B$1) -> 403.87345
...

Sheet Auswertung
B1: Mittelwert Sonntag letzten 7 Tage - DE | C1: Mittelwert Sonntag letzten 7 Tage - AT | D1: Faktor 10
A3: =Daten!A7 -> 44598 | B3: =Daten!D7 -> 2943.7593 | C3: =Daten!G7 -> 237.94401 | D3: =SUM(C3*10) -> 2379.4401
A4: =Daten!A14 -> 44591 | B4: =Daten!D14 -> 4416.0867 | C4: =Daten!G14 -> 289.71834 | D4: =SUM(C4*10) -> 2897.1834
A5: =Daten!A21 -> 44584 | B5: =Daten!D21 -> 5987.3348 | C5: =Daten!G21 -> 337.89074 | D5: =SUM(C5*10) -> 3378.9074
A6: =Daten!A28 -> 44577 | B6: =Daten!D28 -> 7635.7426 | C6: =Daten!G28 -> 447.13272 | D6: =SUM(C6*10) -> 4471.3272
A7: =Daten!A35 -> 44570 | B7: =Daten!D35 -> 7098.254 | C7: =Daten!G35 -> 426.44567 | D7: =SUM(C7*10) -> 4264.4567
A8: =Daten!A42 -> 44563 | B8: =Daten!D42 -> 4964.0529 | C8: =Daten!G42 -> 344.18037 | D8: =SUM(C8*10) -> 3441.8037
A9: =Daten!A49 -> 44556 | B9: =Daten!D49 -> 7553.3656 | C9: =Daten!G49 -> 425.16369 | D9: =SUM(C9*10) -> 4251.6369
A10: =Daten!A56 -> 44549 | B10: =Daten!D56 -> 13173.479 | C10: =Daten!G56 -> 882.62102 | D10: =SUM(C10*10) -> 8826.2102
A11: =Daten!A63 -> 44542 | B11: =Daten!D63 -> 11950.666 | C11: =Daten!G63 -> 1057.3663 | D11: =SUM(C11*10) -> 10573.663
A12: =Daten!A70 -> 44535 | B12: =Daten!D70 -> 10286.828 | C12: =Daten!G70 -> 1168.0346 | D12: =SUM(C12*10) -> 11680.346
A13: =Daten!A77 -> 44528 | B13: =Daten!D77 -> 7819.0047 | C13: =Daten!G77 -> 1257.4762 | D13: =SUM(C13*10) -> 12574.762
A14: =Daten!A84 -> 44521 | B14: =Daten!D84 -> 4675.4103 | C14: =Daten!G84 -> 1170.5332 | D14: =SUM(C14*10) -> 11705.332
